BEGIN:VCALENDAR
VERSION:2.0
PRODID:-//Ten-Ten International - ECPv6.8.1//NONSGML v1.0//EN
CALSCALE:GREGORIAN
METHOD:PUBLISH
X-WR-CALNAME:Ten-Ten International
X-ORIGINAL-URL:https://preprod.ten-ten.org
X-WR-CALDESC:Events for Ten-Ten International
REFRESH-INTERVAL;VALUE=DURATION:PT1H
X-Robots-Tag:noindex
X-PUBLISHED-TTL:PT1H
BEGIN:VTIMEZONE
TZID:UTC
BEGIN:STANDARD
TZOFFSETFROM:+0000
TZOFFSETTO:+0000
TZNAME:UTC
DTSTART:20250101T000000
END:STANDARD
END:VTIMEZONE
BEGIN:VEVENT
DTSTART;TZID=UTC:20251108T000000
DTEND;TZID=UTC:20251109T235900
DTSTAMP:20260423T225636
CREATED:20250108T175449Z
LAST-MODIFIED:20250614T143715Z
UID:2663-1762560000-1762732740@preprod.ten-ten.org
SUMMARY:2025 Fall Digital
DESCRIPTION:
URL:https://preprod.ten-ten.org/event/2025-fall-digital/
END:VEVENT
BEGIN:VEVENT
DTSTART;TZID=UTC:20251018T000000
DTEND;TZID=UTC:20251019T235900
DTSTAMP:20260423T225636
CREATED:20250108T175410Z
LAST-MODIFIED:20250614T144233Z
UID:2662-1760745600-1760918340@preprod.ten-ten.org
SUMMARY:2025 Fall CW
DESCRIPTION:
URL:https://preprod.ten-ten.org/event/2025-spring-cw-2/
END:VEVENT
BEGIN:VEVENT
DTSTART;VALUE=DATE:20251010
DTEND;VALUE=DATE:20251011
DTSTAMP:20260423T225636
CREATED:20250108T175324Z
LAST-MODIFIED:20250614T143846Z
UID:2661-1760054400-1760140799@preprod.ten-ten.org
SUMMARY:2025 Sprint
DESCRIPTION:
URL:https://preprod.ten-ten.org/event/2025-sprint/
END:VEVENT
BEGIN:VEVENT
DTSTART;TZID=UTC:20250802T000000
DTEND;TZID=UTC:20250803T235900
DTSTAMP:20260423T225636
CREATED:20250108T175549Z
LAST-MODIFIED:20250614T143225Z
UID:2660-1754092800-1754265540@preprod.ten-ten.org
SUMMARY:2025 Summer Phone
DESCRIPTION:
URL:https://preprod.ten-ten.org/event/2025-summer-phone/
END:VEVENT
BEGIN:VEVENT
DTSTART;TZID=UTC:20250607T000000
DTEND;TZID=UTC:20250608T235900
DTSTAMP:20260423T225636
CREATED:20250108T175532Z
LAST-MODIFIED:20250614T143340Z
UID:2658-1749254400-1749427140@preprod.ten-ten.org
SUMMARY:2025 Open Season
DESCRIPTION:
URL:https://preprod.ten-ten.org/event/2025-open-season/
END:VEVENT
BEGIN:VEVENT
DTSTART;TZID=UTC:20250503T000000
DTEND;TZID=UTC:20250504T235900
DTSTAMP:20260423T225636
CREATED:20250108T175525Z
LAST-MODIFIED:20250614T143442Z
UID:2657-1746230400-1746403140@preprod.ten-ten.org
SUMMARY:2025 Spring CW
DESCRIPTION:
URL:https://preprod.ten-ten.org/event/2025-spring-cw/
END:VEVENT
BEGIN:VEVENT
DTSTART;TZID=UTC:20250426T000000
DTEND;TZID=UTC:20250427T235900
DTSTAMP:20260423T225636
CREATED:20250614T144446Z
LAST-MODIFIED:20250614T144513Z
UID:3338-1745625600-1745798340@preprod.ten-ten.org
SUMMARY:2025 Spring Digital
DESCRIPTION:
URL:https://preprod.ten-ten.org/event/spring-digital/
END:VEVENT
BEGIN:VEVENT
DTSTART;TZID=UTC:20250201T000000
DTEND;TZID=UTC:20250202T235900
DTSTAMP:20260423T225636
CREATED:20250108T175504Z
LAST-MODIFIED:20250614T144334Z
UID:2655-1738368000-1738540740@preprod.ten-ten.org
SUMMARY:2025 Winter Phone
DESCRIPTION:
URL:https://preprod.ten-ten.org/event/2025-winter-phone/
END:VEVENT
END:VCALENDAR