BEGIN:VCALENDAR
VERSION:2.0
PRODID:-//Ten-Ten International - ECPv6.8.1//NONSGML v1.0//EN
CALSCALE:GREGORIAN
METHOD:PUBLISH
X-ORIGINAL-URL:https://preprod.ten-ten.org
X-WR-CALDESC:Events for Ten-Ten International
REFRESH-INTERVAL;VALUE=DURATION:PT1H
X-Robots-Tag:noindex
X-PUBLISHED-TTL:PT1H
BEGIN:VTIMEZONE
TZID:UTC
BEGIN:STANDARD
TZOFFSETFROM:+0000
TZOFFSETTO:+0000
TZNAME:UTC
DTSTART:20250101T000000
END:STANDARD
END:VTIMEZONE
BEGIN:VEVENT
DTSTART;TZID=UTC:20250201T000000
DTEND;TZID=UTC:20250202T235900
DTSTAMP:20260424T135317
CREATED:20250108T175504Z
LAST-MODIFIED:20250614T144334Z
UID:2655-1738368000-1738540740@preprod.ten-ten.org
SUMMARY:2025 Winter Phone
DESCRIPTION:
URL:https://preprod.ten-ten.org/event/2025-winter-phone/
END:VEVENT
END:VCALENDAR